Workbook

Sheet RECONCILIATION
B2: RECONCILIATION
B4: Client / Company | D4: INDAG RUBBER LIMITED
B5: Type of Account | D5: FINAL DIVIDEND AC 2018-2019
B6: Account No. | D6: YES Bank Ltd - 006166400000050
B7: Dividend Corpus | D7: =39375000 -> 39375000
B8: Payout Date | D8: 43676
B9: Reconciliation as on | D9: 43769
B11: Mode of payout | D11: No. of Records | E11: Amount (in INR)
B12: YES Bank Drafts | D12: =860+70+1 -> 931 | E12: =1496770.5+29358+9408487.5 -> 10934616
B13: NACH | D13: =5258-70 -> 5188 | E13: =9888945-29358 -> 9859587
B14: RTGS | D14: =5-1 -> 4 | F14: =27058245-9408487.5 -> 17649758
B15: NEFT | D15: =1 -> 1 | F15: =27757.5 -> 27757.5
B16: DIRECT CREDIT | D16: =71 -> 71 | F16: =31737 -> 31737
B17: FDD | D17: =2 -> 2 | F17: =769500 -> 769500
B18: ABEYANCE CASE | D18: =169 -> 169 | F18: =102045 -> 102045
B19: Total | D19: =SUM(D12:D18) -> 6366 | E19: =SUM(E12:F18) -> 39375000
B21: Drafts PAID / UNPAID Status
B23: Description | C23: Drafts | F23: Amount (in INR)
B24: Paid | C24: =COUNT('YES DRAFT PAID'!B:B) -> 373 | F24: =SUM('YES DRAFT PAID'!B:B) -> 10744990
B25: Unpaid | C25: =COUNT('YES DRAFT UNPAID'!B:B) -> 558 | F25: =SUM('YES DRAFT UNPAID'!B:B) -> 189625.5
B26: Unpaid(Cancelled) | C26: =COUNT('YES DRAFT UNPAID CANCEL'!B2:B65535) -> 0 | F26: =SUM('YES DRAFT UNPAID CANCEL'!B2:B65535) -> 0
B27: Total | C27: =SUM(C24:C26) -> 931 | F27: =SUM(F24:F26) -> 10934616
B29: Account Balance as on Reconciliation date | F29: =F26+F18 -> 102045
B30: Unpaid amount as on Reconciliation date | F30: =F25+F26+F18 -> 291670.5

Sheet YES DRAFT PAID
A1: NAME | B1: AMOUNT | C1: DD DATE | D1: DD # | E1: PAID DATE | F1: REMARKS | G1: Back to Recon
A2: UNIPATCH RUBBER LIMITED STANDARD CHARTERED BANK 533 0 500066 1 | B2: 1031122.5 | C2: 43676 | D2: 865955 | E2: 43691 | F2: DRAFT ISSUED IN LIEU OF INDAG RUBBER LIMITED DIV A/C 2018-19 WARRANT NO.941 FOLIO NO.IN30001110426128 DD ISSUE AS PER CERTIFICATE 006166400000050
A3: RAMESH CHANDER BANK OF BARODA 17284 | B3: 7.5 | C3: 43676 | D3: 865976 | E3: 43691 | F3: DRAFT ISSUED IN LIEU OF INDAG RUBBER LIMITED DIV A/C 2018-19 WARRANT NO.1219 FOLIO NO.IN30020610384576 DD ISSUE AS PER CERTIFICATE 006166400000050
A4: BINDIA KHANNA | B4: 375 | C4: 43676 | D4: 865507 | E4: 43691 | F4: DRAFT ISSUED IN LIEU OF INDAG RUBBER LIMITED DIV A/C 2018-19 WARRANT NO.243 FOLIO NO.B00502 DD ISSUE AS PER CERTIFICATE 006166400000050
A5: JAGJIT KUMAR KAUSHIK PNB 20421 | B5: 375 | C5: 43676 | D5: 866004 | E5: 43691 | F5: DRAFT ISSUED IN LIEU OF INDAG RUBBER LIMITED DIV A/C 2018-19 WARRANT NO.1749 FOLIO NO.IN30047642702536 DD ISSUE AS PER CERTIFICATE 006166400000050
A6: C KARTHIKEYAN IDBI BANK 022104000061302 | B6: 3 | C6: 43676 | D6: 866071 | E6: 43691 | F6: DRAFT ISSUED IN LIEU OF INDAG RUBBER LIMITED DIV A/C 2018-19 WARRANT NO.3240 FOLIO NO.IN30163740885816 DD ISSUE AS PER CERTIFICATE 006166400000050
A7: MANGALORE VIVEKANAND RAO IDBI BANK LTD 186104000003384 | B7: 1500 | C7: 43676 | D7: 865998 | E7: 43691 | F7: DRAFT ISSUED IN LIEU OF INDAG RUBBER LIMITED DIV A/C 2018-19 WARRANT NO.1639 FOLIO NO.IN30045013487004 DD ISSUE AS PER CERTIFICATE 006166400000050
A8: SHUSHILABEN SHAKRABHAI NAYEE | B8: 1500 | C8: 43676 | D8: 865454 | E8: 43691 | F8: DRAFT ISSUED IN LIEU OF INDAG RUBBER LIMITED DIV A/C 2018-19 WARRANT NO.181 FOLIO NO.10857 DD ISSUE AS PER CERTIFICATE 006166400000050
A9: LALIT KUMAR PUNJAB NATIONAL BANK 012600109133778 | B9: 187.5 | C9: 43678 | D9: 866323 | E9: 43691 | F9: DRAFT ISSUED IN LIEU OF INDAG RUBBER LIMITED DIV A/C 2018-19 WARRANT NO.2243 FOLIO NO.IN30078110026115 DD ISSUE AGST NACH RETURN 006166400000050
A10: KHEMKA AVIATION PVT LTD PUNJAB NATIONAL BANK 1846002100069840 | B10: 9408487.5 | C10: 43678 | D10: 866366 | E10: 43698 | F10: DRAFT ISSUED IN LIEU OF INDAG RUBBER LIMITED DIV A/C 2018-19 WARRANT NO.1229 FOLIO NO.IN30020610561244 DD ISSUE AGST RTGS RETURN 006166400000050 | G10: NEFT DONE
A11: RATNESH KUMAR DUBEY | B11: 7.5 | C11: 43676 | D11: 865308 | E11: 43698 | F11: DRAFT ISSUED IN LIEU OF INDAG RUBBER LIMITED DIV A/C 2018-19 WARRANT NO.6 FOLIO NO.10164 DD ISSUE AS PER CERTIFICATE 006166400000050
A12: CHETAN CHADHA | B12: 22.5 | C12: 43676 | D12: 865449 | E12: 43693 | F12: DRAFT ISSUED IN LIEU OF INDAG RUBBER LIMITED DIV A/C 2018-19 WARRANT NO.176 FOLIO NO.10836 DD ISSUE AS PER CERTIFICATE 006166400000050
A13: BHARATI HARIKANT SHUKLA | B13: 375 | C13: 43676 | D13: 865505 | E13: 43703 | F13: DRAFT ISSUED IN LIEU OF INDAG RUBBER LIMITED DIV A/C 2018-19 WARRANT NO.241 FOLIO NO.B00435 DD ISSUE AS PER CERTIFICATE 006166400000050
A14: B R SHANTHA | B14: 375 | C14: 43676 | D14: 865518 | E14: 43693 | F14: DRAFT ISSUED IN LIEU OF INDAG RUBBER LIMITED DIV A/C 2018-19 WARRANT NO.255 FOLIO NO.B01228 DD ISSUE AS PER CERTIFICATE 006166400000050
A15: DHANJI SHIVJI KENIA | B15: 375 | C15: 43676 | D15: 865545 | E15: 43696 | F15: DRAFT ISSUED IN LIEU OF INDAG RUBBER LIMITED DIV A/C 2018-19 WARRANT NO.287 FOLIO NO.D00930 DD ISSUE AS PER CERTIFICATE 006166400000050
A16: FARIDA DHANKOT | B16: 375 | C16: 43676 | D16: 865553 | E16: 43698 | F16: DRAFT ISSUED IN LIEU OF INDAG RUBBER LIMITED DIV A/C 2018-19 WARRANT NO.300 FOLIO NO.F00162 DD ISSUE AS PER CERTIFICATE 006166400000050
A17: JINESH SHAH | B17: 375 | C17: 43676 | D17: 865602 | E17: 43694 | F17: DRAFT ISSUED IN LIEU OF INDAG RUBBER LIMITED DIV A/C 2018-19 WARRANT NO.358 FOLIO NO.J00862 DD ISSUE AS PER CERTIFICATE 006166400000050
A18: KEWAL K KAPLISH | B18: 375 | C18: 43676 | D18: 865620 | E18: 43698 | F18: DRAFT ISSUED IN LIEU OF INDAG RUBBER LIMITED DIV A/C 2018-19 WARRANT NO.378 FOLIO NO.K00817 DD ISSUE AS PER CERTIFICATE 006166400000050
A19: KALSANK ANANTRANARAYANA | B19: 750 | C19: 43676 | D19: 865645 | E19: 43699 | F19: DRAFT ISSUED IN LIEU OF INDAG RUBBER LIMITED DIV A/C 2018-19 WARRANT NO.406 FOLIO NO.K02186 DD ISSUE AS PER CERTIFICATE 006166400000050
A20: MOHANAN MATHEWS | B20: 375 | C20: 43676 | D20: 865681 | E20: 43700 | F20: DRAFT ISSUED IN LIEU OF INDAG RUBBER LIMITED DIV A/C 2018-19 WARRANT NO.445 FOLIO NO.M01099 DD ISSUE AS PER CERTIFICATE 006166400000050
A21: N M AMIN | B21: 750 | C21: 43676 | D21: 865735 | E21: 43699 | F21: DRAFT ISSUED IN LIEU OF INDAG RUBBER LIMITED DIV A/C 2018-19 WARRANT NO.510 FOLIO NO.N01406 DD ISSUE AS PER CERTIFICATE 006166400000050
A22: RAMCHANDRA AHUJA | B22: 375 | C22: 43676 | D22: 865775 | E22: 43700 | F22: DRAFT ISSUED IN LIEU OF INDAG RUBBER LIMITED DIV A/C 2018-19 WARRANT NO.558 FOLIO NO.R00141 DD ISSUE AS PER CERTIFICATE 006166400000050
... A374: SUNITI DALMIA THE BANTRA COOPERATIVE BANK LTD 207634 | B374: 75 | C374: 43676 | D374: 866053 | E374: 43757 | F374: DRAFT ISSUED IN LIEU OF INDAG RUBBER LIMITED DIV A/C 2018-19 WARRANT NO.2728 FOLIO NO.IN30125028816024 DD ISSUE AS PER CERTIFICATE 006166400000050

Sheet YES DRAFT UNPAID
A1: NAME | B1: AMOUNT | C1: DD DATE | D1: DD # | E1: STALE DATE | F1: REMARKS | G1: Back to Recon
A2: AJAY AJMANI | B2: 7.5 | C2: 43676 | D2: 865318 | E2: =C2+90+2 -> 43768 | F2: DRAFT ISSUED IN LIEU OF INDAG RUBBER LIMITED DIV A/C 2018-19 WARRANT NO.22 FOLIO NO.10397 DD ISSUE AS PER CERTIFICATE 006166400000050
A3: AJAY AJMANI | B3: 7.5 | C3: 43676 | D3: 865329 | E3: =C3+90+2 -> 43768 | F3: DRAFT ISSUED IN LIEU OF INDAG RUBBER LIMITED DIV A/C 2018-19 WARRANT NO.33 FOLIO NO.10408 DD ISSUE AS PER CERTIFICATE 006166400000050
A4: AJAY AJMANI | B4: 7.5 | C4: 43676 | D4: 865345 | E4: =C4+90+2 -> 43768 | F4: DRAFT ISSUED IN LIEU OF INDAG RUBBER LIMITED DIV A/C 2018-19 WARRANT NO.51 FOLIO NO.10490 DD ISSUE AS PER CERTIFICATE 006166400000050
A5: AJAY AJMANI | B5: 7.5 | C5: 43676 | D5: 865354 | E5: =C5+90+2 -> 43768 | F5: DRAFT ISSUED IN LIEU OF INDAG RUBBER LIMITED DIV A/C 2018-19 WARRANT NO.60 FOLIO NO.10499 DD ISSUE AS PER CERTIFICATE 006166400000050
A6: AJAY AJMANI | B6: 7.5 | C6: 43676 | D6: 865365 | E6: =C6+90+2 -> 43768 | F6: DRAFT ISSUED IN LIEU OF INDAG RUBBER LIMITED DIV A/C 2018-19 WARRANT NO.71 FOLIO NO.10510 DD ISSUE AS PER CERTIFICATE 006166400000050
A7: AJAY AJMANI | B7: 7.5 | C7: 43676 | D7: 865367 | E7: =C7+90+2 -> 43768 | F7: DRAFT ISSUED IN LIEU OF INDAG RUBBER LIMITED DIV A/C 2018-19 WARRANT NO.73 FOLIO NO.10512 DD ISSUE AS PER CERTIFICATE 006166400000050
A8: AJAY AJMANI | B8: 7.5 | C8: 43676 | D8: 865370 | E8: =C8+90+2 -> 43768 | F8: DRAFT ISSUED IN LIEU OF INDAG RUBBER LIMITED DIV A/C 2018-19 WARRANT NO.76 FOLIO NO.10515 DD ISSUE AS PER CERTIFICATE 006166400000050
A9: AJAY AJMANI | B9: 7.5 | C9: 43676 | D9: 865410 | E9: =C9+90+2 -> 43768 | F9: DRAFT ISSUED IN LIEU OF INDAG RUBBER LIMITED DIV A/C 2018-19 WARRANT NO.116 FOLIO NO.10555 DD ISSUE AS PER CERTIFICATE 006166400000050
A10: AJAY AJMANI | B10: 7.5 | C10: 43676 | D10: 865412 | E10: =C10+90+2 -> 43768 | F10: DRAFT ISSUED IN LIEU OF INDAG RUBBER LIMITED DIV A/C 2018-19 WARRANT NO.118 FOLIO NO.10557 DD ISSUE AS PER CERTIFICATE 006166400000050
A11: AJAY AJMANI | B11: 7.5 | C11: 43676 | D11: 865424 | E11: =C11+90+2 -> 43768 | F11: DRAFT ISSUED IN LIEU OF INDAG RUBBER LIMITED DIV A/C 2018-19 WARRANT NO.130 FOLIO NO.10569 DD ISSUE AS PER CERTIFICATE 006166400000050
A12: AJAY AJMANI | B12: 7.5 | C12: 43676 | D12: 865426 | E12: =C12+90+2 -> 43768 | F12: DRAFT ISSUED IN LIEU OF INDAG RUBBER LIMITED DIV A/C 2018-19 WARRANT NO.132 FOLIO NO.10571 DD ISSUE AS PER CERTIFICATE 006166400000050
A13: AJAY AJMANI | B13: 7.5 | C13: 43676 | D13: 865430 | E13: =C13+90+2 -> 43768 | F13: DRAFT ISSUED IN LIEU OF INDAG RUBBER LIMITED DIV A/C 2018-19 WARRANT NO.136 FOLIO NO.10575 DD ISSUE AS PER CERTIFICATE 006166400000050
... A559: GURMEET SINGH PUNJAB NATIONAL BANK 06740000100363103 | B559: 3 | C559: 43678 | D559: 866363 | E559: =C559+90+2 -> 43770 | F559: DRAFT ISSUED IN LIEU OF INDAG RUBBER LIMITED DIV A/C 2018-19 WARRANT NO.5927 FOLIO NO.1206730000057021 DD ISSUE AGST NACH RETURN 006166400000050

Sheet YES DRAFT UNPAID CANCEL
A1: NAME | B1: AMOUNT | C1: DD DATE | D1: DD # | E1: STALE DATE | F1: REMARKS | G1: Back to Recon
